BEGIN:VCALENDAR
VERSION:2.0
PRODID:gruene-kreis-dueren.de
METHOD:PUBLISH
BEGIN:VTIMEZONE
TZID:Europe/Berlin
X-LIC-LOCATION:Europe/Berlin
BEGIN:DAYLIGHT
TZOFFSETFROM:+0100
TZOFFSETTO:+0200
TZNAME:CEST
DTSTART:19700329T020000
RRULE:FREQ=YEARLY;INTERVAL=1;BYDAY=-1SU;BYMONTH=3
END:DAYLIGHT
BEGIN:STANDARD
TZOFFSETFROM:+0200
TZOFFSETTO:+0100
TZNAME:CET
DTSTART:19701025T030000
RRULE:FREQ=YEARLY;INTERVAL=1;BYDAY=-1SU;BYMONTH=10
END:STANDARD
END:VTIMEZONE
BEGIN:VEVENT
UID:d2b541df3f202692788f9ac63f9d1139@gruene-kreis-dueren.de
URL;VALUE=URI:https://gruene-kreis-dueren.de/termine/vogelstimmenexkursio
 n-in-der-drover-heide
LOCATION:Drover Heide, Drover Straße (Parkplatz am Sportplatz), Vettwei
 ß-Soller
SUMMARY:Vogelstimmenexkursion in der Drover Heide
DESCRIPTION;ALTREP="data:text/html,%0A%3Cp%3EWas%20w%C3%A4re%20ein%20Spaz
 iergang%20durch%20die%20Drover%20Heide%20ohne%20Vogelgesang%3F%20Welche%2
 0Stimme%20geh%C3%B6rt%20zu%20welchem%20Vogel%3F%20Wo%20und%20wie%20leben%
 20die%20Tiere%3F%3C%2Fp%3E%0A%0A%0A%0A%3Cp%3EBei%20dieser%20Exkursion%20m
 %C3%B6chte%20der%20D%C3%BCrener%20Hobby-Ornithologe%20und%20Minister%20f%
 C3%BCr%20Umwelt%2C%20Naturschutz%20und%20Verkehr%20des%20Landes%20NRW%20O
 liver%20Krischer%20uns%20diese%20Tiere%20und%20deren%20%C3%96kologie%20n%
 C3%A4herbringen%20und%20uns%20dazu%20anleiten%2C%20einige%20davon%20selbs
 t%20an%20der%20Stimme%20zu%20erkennen.%3C%2Fp%3E%0A%0A%0A%0A%3Cp%3EZum%20
 Abschluss%20laden%20wir%20zu%20einem%20kleinen%20Imbiss%20ein%20und%20neb
 enbei%20kann%20man%20die%20eine%20oder%20andere%20Frage%20zur%20Politik%2
 0loswerden%20und%20in%20Ruhe%20die%20GR%C3%9CNEN%20vor%20Ort%20kennenlern
 en%21%3C%2Fp%3E%0A%0A%0A%0A%3Cp%3E%3C%2Fp%3E%0A%0A%0A%0A%3Cp%3EAnmeldung%
 20wird%20erbeten%20unter%3A%20%3Ca%20href%3D%22mailto%3Agruene.vettweiss%
 40mailbox.org%22%3Egruene.vettweiss%40mailbox.org%3C%2Fa%3E%3C%2Fp%3E%0A%
 0A%0A%0A%3Cp%3E%3C%2Fp%3E%0A":Was wäre ein Spaziergang durch die Drover 
 Heide ohne Vogelgesang? Welche Stimme gehört zu welchem Vogel? Wo und wi
 e leben die Tiere?\n\nBei dieser Exkursion möchte der Dürener Hobby-Orn
 ithologe und Minister für Umwelt\, Naturschutz und Verkehr des Landes NR
 W Oliver Krischer uns diese Tiere und deren Ökologie näherbringen und u
 ns dazu anleiten\, einige davon selbst an der Stimme zu erkennen.\n\nZum 
 Abschluss laden wir zu einem kleinen Imbiss ein und nebenbei kann man die
  eine oder andere Frage zur Politik loswerden und in Ruhe die GRÜNEN vor
  Ort kennenlernen!\n\nAnmeldung wird erbeten unter: gruene.vettweiss@mail
 box.org
CLASS:PUBLIC
DTSTART;TZID=Europe/Berlin:20260503T080000
DTEND;TZID=Europe/Berlin:20260503T090000
DTSTAMP:20260422T143034
END:VEVENT
END:VCALENDAR