BEGIN:VCALENDAR
VERSION:2.0
PRODID:gruene-kreis-dueren.de
METHOD:PUBLISH
BEGIN:VTIMEZONE
TZID:Europe/Berlin
X-LIC-LOCATION:Europe/Berlin
BEGIN:DAYLIGHT
TZOFFSETFROM:+0100
TZOFFSETTO:+0200
TZNAME:CEST
DTSTART:19700329T020000
RRULE:FREQ=YEARLY;INTERVAL=1;BYDAY=-1SU;BYMONTH=3
END:DAYLIGHT
BEGIN:STANDARD
TZOFFSETFROM:+0200
TZOFFSETTO:+0100
TZNAME:CET
DTSTART:19701025T030000
RRULE:FREQ=YEARLY;INTERVAL=1;BYDAY=-1SU;BYMONTH=10
END:STANDARD
END:VTIMEZONE
BEGIN:VEVENT
UID:8f87f38d065c00a5796ccc3be74c79e1@gruene-kreis-dueren.de
URL;VALUE=URI:https://gruene-kreis-dueren.de/termine/bezahlbares-wohnen-i
 n-dueren
LOCATION:KOMM Düren, August-Klotz-Str. 2, Düren
SUMMARY:Der grüne Freitag: Bezahlbares Wohnen in Düren
DESCRIPTION;ALTREP="data:text/html,%0A%3Cp%3ESave%20the%20date%3A%20Unser
 %20Landtagsabgeordneter%20Arndt%20Klocke%20kommt%20am%2016.5.%20um%2019Uh
 r%20ins%20KOMM%20D%C3%BCren.%20%3Cbr%3EWir%20wollen%20diskutieren%2C%20wi
 e%20wir%20besser%20ausreichend%20bezahlbaren%20Wohnraum%20-%20und%20das%2
 0m%C3%B6glichst%20ohne%20zu%20gro%C3%9Fe%20%C3%B6kologische%20Belastungen
 %20-%20erreichen%20k%C3%B6nnen.%20Es%20geht%20um%20Mietpreisbremse%2C%20U
 mnutzungen%2C%20Leerstand%20und%20vieles%20mehr.%20%3C%2Fp%3E%0A%0A%0A%0A
 %3Cp%3ESeit%20drei%20Jahren%20arbeiten%20wir%20Gr%C3%BCne%20in%20einer%20
 Koalition%20auf%20Landesebene%2C%20wir%20haben%20mittlerweile%20viele%20b
 aupolitische%20Projekte%20aus%20dem%20Koalitionsvertrag%20auf%20den%20Weg
 %20gebracht%20und%20es%20bietet%20sich%20Gelegenheit%20Bilanz%20zu%20zieh
 en.%20Gleichzeitig%20richtet%20sich%20in%20diesem%20Sommer%20und%20Herbst
 %20im%20Vorfeld%20der%20Kommunalwahlen%20st%C3%A4rker%20der%20Blick%20auf
 %20die%20kommunalpolitische%20Situation%20in%20NRW.%20%26nbsp%3B%3Cbr%3E%
 3Cbr%3EIm%20Koalitionsvertrag%20haben%20wir%20uns%20daf%C3%BCr%20stark%20
 gemacht%2C%20den%20sozialen%20Wohnungsbau%20in%20den%20Fokus%20zu%20stell
 en%20und%20auch%20in%20Krisenzeiten%20bezahlbaren%20Wohnraum%20sicherzust
 ellen.%20Seit%201.1.2024%20gilt%20die%20novellierte%20Fassung%20der%20Lan
 desbauordnung%2C%20die%20zahlreiche%20Erleichterungen%20f%C3%BCr%20den%20
 Bau%20von%20Wohnraum%20geschaffen%20hat.%3Cbr%3E%3Cbr%3EIm%20letzten%20So
 mmer%20konnten%20wir%20mit%20R%C3%BCcklagen%20der%20NRW.BANK%20die%20Mitt
 el%20der%20Wohnraumf%C3%B6rderung%20immens%20aufstocken.%20In%20diesem%20
 Fr%C3%BChjahr%20wurde%20dann%20die%20Mieterschutzverordnung%20des%20Lande
 s%20NRW%20verl%C3%A4ngert%20und%20inhaltlich%20ausgeweitet%20und%20wir%20
 haben%20einen%20Antrag%20zur%20St%C3%A4rkung%20des%20genossenschaftlichen
 %20Wohnens%20in%20den%20Landtag%20eingebracht.%20Diese%20Ma%C3%9Fnahmen%2
 0sollen%20helfen%20den%20Wohnungsbau%20auch%20in%20Zeiten%20der%20Baukris
 e%20zu%20unterst%C3%BCtzen.%3C%2Fp%3E%0A%0A%0A%0A%3Cp%3EWir%20wollen%20nu
 n%20wir%20den%20Blick%20auf%20die%20bisherige%20und%20k%C3%BCnftige%20Ent
 wicklung%20des%20Wohnungsmarktes%20in%20NRW%20lenken%20und%20gemeinsam%20
 diskutieren%20welche%20Strategie%20unsere%20Wohnpolitik%20braucht%2C%20um
 %20allen%20Menschen%20in%20NRW%20angemessenen%20Wohnraum%20zu%20bieten%20
 %E2%80%93%20denn%20Wohnen%20ist%20soziale%20Daseinsvorsorge%21%3Cbr%3EDab
 ei%20wollen%20wir%20v.a.%20die%20Situation%20in%20D%C3%BCren%20mit%20in%2
 0den%20Blick%20nehmen.%3Cbr%3EFoto%20von%20Arndt%3A%20Nina%20Gschl%C3%B6%
 C3%9Fl%3Cbr%3EFoto%20Geb%C3%A4ude%20an%20der%20Eiswiese%3A%20Georg%20Schm
 itz%3C%2Fp%3E%0A%0A%0A%0A%3Cfigure%20class%3D%22wp-block-image%20size-lar
 ge%22%3E%3Cimg%20src%3D%22https%3A%2F%2Fgruene-kreis-dueren.de%2Fwp-conte
 nt%2Fuploads%2F2024%2F11%2F20241111_152314-1024x768.jpg%22%20alt%3D%22%22
 %20class%3D%22wp-image-33771%22%20%2F%3E%3C%2Ffigure%3E%0A":Save the date
 : Unser Landtagsabgeordneter Arndt Klocke kommt am 16.5. um 19Uhr ins KOM
 M Düren. Wir wollen diskutieren\, wie wir besser ausreichend bezahlbaren
  Wohnraum - und das möglichst ohne zu große ökologische Belastungen - 
 erreichen können. Es geht um Mietpreisbremse\, Umnutzungen\, Leerstand u
 nd vieles mehr.\n\nSeit drei Jahren arbeiten wir Grüne in einer Koalitio
 n auf Landesebene\, wir haben mittlerweile viele baupolitische Projekte a
 us dem Koalitionsvertrag auf den Weg gebracht und es bietet sich Gelegenh
 eit Bilanz zu ziehen. Gleichzeitig richtet sich in diesem Sommer und Herb
 st im Vorfeld der Kommunalwahlen stärker der Blick auf die kommunalpolit
 ische Situation in NRW.  Im Koalitionsvertrag haben wir uns dafür stark
  gemacht\, den sozialen Wohnungsbau in den Fokus zu stellen und auch in K
 risenzeiten bezahlbaren Wohnraum sicherzustellen. Seit 1.1.2024 gilt die 
 novellierte Fassung der Landesbauordnung\, die zahlreiche Erleichterungen
  für den Bau von Wohnraum geschaffen hat.Im letzten Sommer konnten wir m
 it Rücklagen der NRW.BANK die Mittel der Wohnraumförderung immens aufst
 ocken. In diesem Frühjahr wurde dann die Mieterschutzverordnung des Land
 es NRW verlängert und inhaltlich ausgeweitet und wir haben einen Antrag 
 zur Stärkung des genossenschaftlichen Wohnens in den Landtag eingebracht
 . Diese Maßnahmen sollen helfen den Wohnungsbau auch in Zeiten der Baukr
 ise zu unterstützen.\n\nWir wollen nun wir den Blick auf die bisherige u
 nd künftige Entwicklung des Wohnungsmarktes in NRW lenken und gemeinsam 
 diskutieren welche Strategie unsere Wohnpolitik braucht\, um allen Mensch
 en in NRW angemessenen Wohnraum zu bieten – denn Wohnen ist soziale Das
 einsvorsorge!Dabei wollen wir v.a. die Situation in Düren mit in den Bli
 ck nehmen.Foto von Arndt: Nina GschlößlFoto Gebäude an der Eiswiese: G
 eorg Schmitz
CLASS:PUBLIC
DTSTART;TZID=Europe/Berlin:20250516T190000
DTEND;TZID=Europe/Berlin:20250516T210000
DTSTAMP:20260421T115346
END:VEVENT
END:VCALENDAR