BEGIN:VCALENDAR
VERSION:2.0
PRODID:gruene-kreis-dueren.de
METHOD:PUBLISH
BEGIN:VTIMEZONE
TZID:Europe/Berlin
X-LIC-LOCATION:Europe/Berlin
BEGIN:DAYLIGHT
TZOFFSETFROM:+0100
TZOFFSETTO:+0200
TZNAME:CEST
DTSTART:19700329T020000
RRULE:FREQ=YEARLY;INTERVAL=1;BYDAY=-1SU;BYMONTH=3
END:DAYLIGHT
BEGIN:STANDARD
TZOFFSETFROM:+0200
TZOFFSETTO:+0100
TZNAME:CET
DTSTART:19701025T030000
RRULE:FREQ=YEARLY;INTERVAL=1;BYDAY=-1SU;BYMONTH=10
END:STANDARD
END:VTIMEZONE
BEGIN:VEVENT
UID:e6b0a5ec42f3df09de8e12484b6ed901@gruene-kreis-dueren.de
URL;VALUE=URI:https://gruene-kreis-dueren.de/termine/aktiventreffen-2
LOCATION:KOMM Düren, August-Klotz-Str. 2, Düren
SUMMARY:Wahlversammlung
DESCRIPTION;ALTREP="data:text/html,%0A%3Cp%3ENach%20der%20Wahl%20ist%20vo
 r%20der%20Wahl%2C%20und%20wir%20sind%20schon%20seit%20einiger%20Zeit%20da
 mit%20besch%C3%A4ftigt%2C%20uns%20f%C3%BCr%20die%20Kommunalwahl%20im%20Se
 ptember%20vorzubereiten.%20Zum%20Wahlprogramm%20gab%20es%20ja%20schon%20e
 inen%20Termin%20in%202024%20und%20der%20Vorentwurf%20mit%20den%20wichtigs
 ten%20Punkten%20ist%20verfasst.%20Hier%C3%BCber%20werden%20wir%20in%20ein
 er%20sp%C3%A4teren%20Mitgliederversammlung%20diskutieren.%3Cbr%3E%3Cbr%3E
 %3Cstrong%3EAKTUELL%20WICHTIG%3A%20%2A%2A%2ASAVE%20THE%20DATE%2A%2A%2A%20
 12.%20April%202025%20im%20KOMM%20%3D%26gt%3B%20Wahlversammlung%20%28%3DMi
 tgliederversammlung%29%21%3C%2Fstrong%3E%3Cbr%3EEinladungen%20sind%20pers
 %C3%B6nlich%20zugegangen%21%3Cbr%3EHier%20w%C3%A4hlen%20wir%20die%20Kandi
 dierenden%20f%C3%BCr%20die%20Wahlbezirke%20und%20unsere%20Listenkandidier
 enden%20f%C3%BCr%20die%20Kommunalwahl%20am%2014.09.2025.%20Was%20bedeutet
 %20das%3F%3Cbr%3E%3Cbr%3E%3Cstrong%3E%3Cu%3EErststimmen-Kandidatur%20f%C3
 %BCr%20die%20Wahlbezirke%3A%3C%2Fu%3E%3C%2Fstrong%3E%3Cbr%3EDie%20Kandidi
 erenden%20f%C3%BCr%20die%20Wahlbezirke%20der%20Kommunalwahl%20stehen%20be
 i%20der%20Kommunalwahl%20namentlich%20genannt%20bei%20der%20Erststimme%20
 auf%20dem%20Wahlzettel.%20Sollte%20der%20Kandidierende%20in%20dem%20Wahlb
 ezirk%20die%20meisten%20Stimmen%20unter%20allen%20Parteien%20erhalten%2C%
 20ist%20er%2Fsie%20automatisch%20f%C3%BCr%20den%20Stadtrat%20gew%C3%A4hlt
 %20%28das%20ist%20recht%20unwahrscheinlich%29.%3Cbr%3EWir%20m%C3%BCssen%2
 0f%C3%BCr%20die%2025%20Wahlbezirke%20in%20D%C3%BCren%20jeweils%20einen%20
 Kandidierenden%20f%C3%BCr%20die%20Erststimme%20benennen.%20Anbei%20findet
 %20ihr%20eine%20Liste%20der%20Wahlbezirke%20f%C3%BCr%20die%20Stadt%20D%C3
 %BCren%20aus%20dem%20Jahr%202020%2C%20eine%20aktuelle%20Liste%20soll%20ba
 ld%20ver%C3%B6ffentlicht%20werden.%3C%2Fp%3E%0A%0A%0A%0A%3Cp%3E%3Cbr%3ERe
 chtliche%20Voraussetzung%20f%C3%BCr%20die%20W%C3%A4hlbarkeit%3A%20Man%20m
 uss%20f%C3%BCr%20die%20Kommunalwahl%20wahlberechtigt%20sein%2C%20seit%20m
 indestens%203%20Monaten%20mit%20dem%20ersten%20Wohnsitz%20im%20Stadtgebie
 t%20gemeldet%20und%20am%2014.09.25%20mindestens%2018%20Jahre%20alt%20sein
 .%20Man%20muss%20nicht%20in%20dem%20Bezirk%20wohnen%2C%20f%C3%BCr%20den%2
 0man%20kandidiert%21%3Cbr%3EDetails%20k%C3%B6nnen%20hier%20eingesehen%20w
 erden%3A%20%3Ca%20href%3D%22https%3A%2F%2Frecht.nrw.de%2Flmi%2Fowa%2Fbr_t
 ext_anzeigen%3Fv_id%3D4520040121111440485%22%3Ehttps%3A%2F%2Frecht.nrw.de
 %2Flmi%2Fowa%2Fbr_text_anzeigen%3Fv_id%3D4520040121111440485%3C%2Fa%3E%3C
 %2Fp%3E%0A%0A%0A%0A%3Cp%3E%3Cbr%3EParteiliche%20Voraussetzungen%3A%20Ihr%
 20seid%20am%2012.04.25%20bei%20der%20Wahlversammlung%20dabei%2C%20weil%20
 wir%20eure%20Unterschrift%20ben%C3%B6tigen.%20Au%C3%9Ferdem%20solltet%20I
 hr%20bereit%20sein%2C%20in%20eurem%20Wahlbezirk%20etwas%20Wahlkampf%20zu%
 20machen.%3Cbr%3E%3Cbr%3E%3Cstrong%3E%3Cem%3EWir%20brauchen%20euch%20als%
 20Kandidierende%21%3C%2Fem%3E%3C%2Fstrong%3E%20Wir%20sind%20auf%20eure%20
 Mitarbeit%20angewiesen%2C%20damit%20wir%20auf%20allen%20Stimmzetteln%20gr
 %C3%BCne%20Kandidierende%20stehen%20haben%21%20Nur%20so%20k%C3%B6nnen%20d
 ie%20W%C3%A4hler%20Erst-%20und%20Zweitstimme%20f%C3%BCr%20die%20Gr%C3%BCn
 en%20abgeben%21%3C%2Fp%3E%0A%0A%0A%0A%3Cp%3E%3Cbr%3EZweitstimmen-Listenka
 ndidatur%3A%3Cbr%3EZus%C3%A4tzlich%20zu%20den%20Kandidierenden%20der%20Wa
 hlbezirke%20w%C3%A4hlen%20wir%20auf%20der%20Wahlversammlung%20die%20Kandi
 dierenden%20f%C3%BCr%20die%20Ersatzliste.%20Abh%C3%A4ngig%20von%20Wahlerg
 ebnis%20und%20Direktmandaten%20besetzen%20die%20Personen%20der%20Ersatzli
 ste%20die%20Mandate%20im%20Stadtrat%2C%20die%20nicht%20direkt%20gew%C3%A4
 hlt%20wurden.%20Hier%20wollen%20wir%20mindestens%2015%20Listenpl%C3%A4tze
 %20belegen%2C%20wobei%20immer%20abwechselnd%20ein%20Platz%20f%C3%BCr%20ei
 ne%20Frau%20und%20ein%20offener%20Platz%20%28Mann%20oder%20Frau%29%20gew%
 C3%A4hlt%20wird.%20F%C3%BCr%20einen%20Listenplatz%20kann%20jedes%20Mitgli
 ed%20auf%20der%20Wahlversammlung%20kandidieren.%3Cbr%3E%3Cbr%3E%3Cstrong%
 3E%3Cu%3EZusammengefasst%3A%3C%2Fu%3E%3Cbr%3ESagt%20uns%20bis%20zum%2015.
 03.25%20Bescheid%2C%20wenn%20ihr%20gerne%20f%C3%BCr%20einen%20Wahlbezirk%
 20kandidieren%20m%C3%B6chtet.%20Das%20gibt%20uns%20einen%20%C3%9Cberblick
 %2C%20ob%20wir%20alle%20Wahlbezirke%20besetzen%20k%C3%B6nnen%21%3C%2Fstro
 ng%3E%3Cbr%3E%3Cbr%3E%3Cstrong%3EBitte%20seid%20am%2012.04.25%20bei%20der
 %20Wahlversammlung%20dabei.%3C%2Fstrong%3E%20Wir%20starten%20um%2010%20Uh
 r%20im%20KOMM%20D%C3%BCren.%3Cbr%3E%3Cbr%3EEuer%20OV%20Vorstand%3Cbr%3EAn
 drea%2C%20Joost%2C%20Christian%2C%20Hanna%20und%20Y%C3%BCcel%3Cbr%3E%3Cbr
 %3E%3Cbr%3E%3Cstrong%3E%3Cem%3EAktuelle%20Infos%20gibt%20es%20auch%20hier
 %3A%3Cbr%3EWeb%3A%20gruene-dueren.de%3Cbr%3EInstagram%3A%20gruene_stadt_d
 ueren%3Cbr%3EFacebook%3A%20Gr%C3%BCne%20Stadt%20D%C3%BCren%3C%2Fem%3E%3C%
 2Fstrong%3E%3C%2Fp%3E%0A":Nach der Wahl ist vor der Wahl\, und wir sind s
 chon seit einiger Zeit damit beschäftigt\, uns für die Kommunalwahl im 
 September vorzubereiten. Zum Wahlprogramm gab es ja schon einen Termin in
  2024 und der Vorentwurf mit den wichtigsten Punkten ist verfasst. Hierü
 ber werden wir in einer späteren Mitgliederversammlung diskutieren.AKTUE
 LL WICHTIG: ***SAVE THE DATE*** 12. April 2025 im KOMM => Wahlversammlung
  (=Mitgliederversammlung)!Einladungen sind persönlich zugegangen!Hier w
 ählen wir die Kandidierenden für die Wahlbezirke und unsere Listenkandi
 dierenden für die Kommunalwahl am 14.09.2025. Was bedeutet das?Erststimm
 en-Kandidatur für die Wahlbezirke:Die Kandidierenden für die Wahlbezirk
 e der Kommunalwahl stehen bei der Kommunalwahl namentlich genannt bei der
  Erststimme auf dem Wahlzettel. Sollte der Kandidierende in dem Wahlbezir
 k die meisten Stimmen unter allen Parteien erhalten\, ist er/sie automati
 sch für den Stadtrat gewählt (das ist recht unwahrscheinlich).Wir müss
 en für die 25 Wahlbezirke in Düren jeweils einen Kandidierenden für di
 e Erststimme benennen. Anbei findet ihr eine Liste der Wahlbezirke für d
 ie Stadt Düren aus dem Jahr 2020\, eine aktuelle Liste soll bald veröff
 entlicht werden.\n\nRechtliche Voraussetzung für die Wählbarkeit: Man m
 uss für die Kommunalwahl wahlberechtigt sein\, seit mindestens 3 Monaten
  mit dem ersten Wohnsitz im Stadtgebiet gemeldet und am 14.09.25 mindeste
 ns 18 Jahre alt sein. Man muss nicht in dem Bezirk wohnen\, für den man 
 kandidiert!Details können hier eingesehen werden: https://recht.nrw.de/l
 mi/owa/br_text_anzeigen?v_id=4520040121111440485\n\nParteiliche Vorausset
 zungen: Ihr seid am 12.04.25 bei der Wahlversammlung dabei\, weil wir eur
 e Unterschrift benötigen. Außerdem solltet Ihr bereit sein\, in eurem W
 ahlbezirk etwas Wahlkampf zu machen.Wir brauchen euch als Kandidierende! 
 Wir sind auf eure Mitarbeit angewiesen\, damit wir auf allen Stimmzetteln
  grüne Kandidierende stehen haben! Nur so können die Wähler Erst- und 
 Zweitstimme für die Grünen abgeben!\n\nZweitstimmen-Listenkandidatur:Zu
 sätzlich zu den Kandidierenden der Wahlbezirke wählen wir auf der Wahlv
 ersammlung die Kandidierenden für die Ersatzliste. Abhängig von Wahlerg
 ebnis und Direktmandaten besetzen die Personen der Ersatzliste die Mandat
 e im Stadtrat\, die nicht direkt gewählt wurden. Hier wollen wir mindest
 ens 15 Listenplätze belegen\, wobei immer abwechselnd ein Platz für ein
 e Frau und ein offener Platz (Mann oder Frau) gewählt wird. Für einen L
 istenplatz kann jedes Mitglied auf der Wahlversammlung kandidieren.Zusamm
 engefasst:Sagt uns bis zum 15.03.25 Bescheid\, wenn ihr gerne für einen 
 Wahlbezirk kandidieren möchtet. Das gibt uns einen Überblick\, ob wir a
 lle Wahlbezirke besetzen können!Bitte seid am 12.04.25 bei der Wahlversa
 mmlung dabei. Wir starten um 10 Uhr im KOMM Düren.Euer OV VorstandAndrea
 \, Joost\, Christian\, Hanna und YücelAktuelle Infos gibt es auch hier:W
 eb: gruene-dueren.deInstagram: gruene_stadt_duerenFacebook: Grüne Stadt 
 Düren
CLASS:PUBLIC
DTSTART;TZID=Europe/Berlin:20250412T100000
DTEND;TZID=Europe/Berlin:20250412T160000
DTSTAMP:20260421T140621
END:VEVENT
END:VCALENDAR