BEGIN:VCALENDAR
VERSION:2.0
PRODID:gruene-kreis-dueren.de
METHOD:PUBLISH
BEGIN:VTIMEZONE
TZID:Europe/Berlin
X-LIC-LOCATION:Europe/Berlin
BEGIN:DAYLIGHT
TZOFFSETFROM:+0100
TZOFFSETTO:+0200
TZNAME:CEST
DTSTART:19700329T020000
RRULE:FREQ=YEARLY;INTERVAL=1;BYDAY=-1SU;BYMONTH=3
END:DAYLIGHT
BEGIN:STANDARD
TZOFFSETFROM:+0200
TZOFFSETTO:+0100
TZNAME:CET
DTSTART:19701025T030000
RRULE:FREQ=YEARLY;INTERVAL=1;BYDAY=-1SU;BYMONTH=10
END:STANDARD
END:VTIMEZONE
BEGIN:VEVENT
UID:344a93ee9a9b64fe7378e99db3369642@gruene-kreis-dueren.de
URL;VALUE=URI:https://gruene-kreis-dueren.de/termine/%f0%9f%8e%89-familie
 nfest-zum-1-mai-in-dueren-%f0%9f%8c%bf
LOCATION:Ahrweilerplatz, Ahrweilerplatz, Düren
SUMMARY:🎉 Familienfest zum 1. Mai in Düren! 🌿
DESCRIPTION;ALTREP="data:text/html,%0A%3Cp%3EKommt%20vorbei%20und%20feier
 t%20mit%20uns%20den%20Arbeiter%2Ainnentag%20am%20%3Cstrong%3E1.%20Mai%202
 026%3C%2Fstrong%3E%20auf%20dem%20%3Cstrong%3EAhrweilerplatz%3C%2Fstrong%3
 E%21%3Cbr%3E%20%3Cstrong%3E12%3A00%20%E2%80%93%2015%3A00%20Uhr%3C%2Fstron
 g%3E%3C%2Fp%3E%0A%0A%0A%0A%3Cp%3EFreut%20euch%20auf%20ein%20entspanntes%2
 0Beisammensein%20f%C3%BCr%20Gro%C3%9F%20und%20Klein%20mit%20guter%20Stimm
 ung%2C%20Austausch%20und%20Aktionen%20f%C3%BCr%20die%20ganze%20Familie.%3
 C%2Fp%3E%0A%0A%0A%0A%3Cp%3EAuch%20%3Cstrong%3EB%C3%BCndnis%2090%2FDie%20G
 r%C3%BCnen%20Kreisverband%3C%2Fstrong%3E%20%3Cstrong%3ED%C3%BCren%3C%2Fst
 rong%3E%20ist%20mit%20einem%20Aktionsstand%20vor%20Ort%20%E2%80%93%20scha
 ut%20vorbei%2C%20kommt%20ins%20Gespr%C3%A4ch%20und%20macht%20mit%21%20%3C
 %2Fp%3E%0A%0A%0A%0A%3Cp%3EWir%20freuen%20uns%20auf%20euch%21%20%3C%2Fp%3E
 %0A":Kommt vorbei und feiert mit uns den Arbeiter*innentag am 1. Mai 2026
  auf dem Ahrweilerplatz! 12:00 – 15:00 Uhr\n\nFreut euch auf ein entspa
 nntes Beisammensein für Groß und Klein mit guter Stimmung\, Austausch u
 nd Aktionen für die ganze Familie.\n\nAuch Bündnis 90/Die Grünen Kreis
 verband Düren ist mit einem Aktionsstand vor Ort – schaut vorbei\, kom
 mt ins Gespräch und macht mit!\n\nWir freuen uns auf euch!
CLASS:PUBLIC
DTSTART;TZID=Europe/Berlin:20260501T120000
DTEND;TZID=Europe/Berlin:20260501T150000
DTSTAMP:20260421T153834
END:VEVENT
END:VCALENDAR